BEGIN:VCALENDAR
VERSION:2.0
PRODID:-//NetAuktion//NONSGML NetAuktion//SV
METHOD:PUBLISH
BEGIN:VEVENT
UID:20260421T102803-97266231-netauktion.se
DTSTAMP:20260421T102803
DTSTART:20150331T022900
DTEND:20150331T023200
SUMMARY:Netauktion objekt 2049-177 Auktionspåminnelse
DESCRIPTION:Länk till objektet du var intresserad av: https://staging.netauktion.se/auktion/produkt/hilti-te-6-a36-borrhammare-batteri
END:VEVENT
END:VCALENDAR
