BEGIN:VCALENDAR
VERSION:2.0
PRODID:-//NetAuktion//NONSGML NetAuktion//SV
METHOD:PUBLISH
BEGIN:VEVENT
UID:20260421T104452-318947402-netauktion.se
DTSTAMP:20260421T104452
DTSTART:20150828T021500
DTEND:20150828T021800
SUMMARY:Netauktion objekt 2169-021 Auktionspåminnelse
DESCRIPTION:Länk till objektet du var intresserad av: https://staging.netauktion.se/auktion/produkt/gjutjarnsbank-5-3
END:VEVENT
END:VCALENDAR
