BEGIN:VCALENDAR
VERSION:2.0
PRODID:-//NetAuktion//NONSGML NetAuktion//SV
METHOD:PUBLISH
BEGIN:VEVENT
UID:20260421T104454-1227651590-netauktion.se
DTSTAMP:20260421T104454
DTSTART:20150331T025100
DTEND:20150331T025400
SUMMARY:Netauktion objekt 2203-007 Auktionspåminnelse
DESCRIPTION:Länk till objektet du var intresserad av: https://staging.netauktion.se/auktion/produkt/taklampa-ikea-maskros
END:VEVENT
END:VCALENDAR
