BEGIN:VCALENDAR
VERSION:2.0
PRODID:-//NetAuktion//NONSGML NetAuktion//SV
METHOD:PUBLISH
BEGIN:VEVENT
UID:20260421T104434-273346519-netauktion.se
DTSTAMP:20260421T104434
DTSTART:20150331T030500
DTEND:20150331T030800
SUMMARY:Netauktion objekt 2203-021 Auktionspåminnelse
DESCRIPTION:Länk till objektet du var intresserad av: https://staging.netauktion.se/auktion/produkt/bord-och-stolar-8-personer
END:VEVENT
END:VCALENDAR
