BEGIN:VCALENDAR
VERSION:2.0
PRODID:-//NetAuktion//NONSGML NetAuktion//SV
METHOD:PUBLISH
BEGIN:VEVENT
UID:20260421T104358-866533566-netauktion.se
DTSTAMP:20260421T104358
DTSTART:20150430T030000
DTEND:20150430T030300
SUMMARY:Netauktion objekt 1586-073 Auktionspåminnelse
DESCRIPTION:Länk till objektet du var intresserad av: https://staging.netauktion.se/auktion/produkt/1-st-ultraljudstvatt-tab-gt-200-6-2
END:VEVENT
END:VCALENDAR
