BEGIN:VCALENDAR
VERSION:2.0
PRODID:-//NetAuktion//NONSGML NetAuktion//SV
METHOD:PUBLISH
BEGIN:VEVENT
UID:20260421T102832-1941325435-netauktion.se
DTSTAMP:20260421T102832
DTSTART:20150828T022600
DTEND:20150828T022900
SUMMARY:Netauktion objekt 2169-030 Auktionspåminnelse
DESCRIPTION:Länk till objektet du var intresserad av: https://staging.netauktion.se/auktion/produkt/vacker-lyktstolpe-i-gjutjarn-2-5
END:VEVENT
END:VCALENDAR
