BEGIN:VCALENDAR
VERSION:2.0
PRODID:-//NetAuktion//NONSGML NetAuktion//SV
METHOD:PUBLISH
BEGIN:VEVENT
UID:20260421T103030-831936561-netauktion.se
DTSTAMP:20260421T103030
DTSTART:20150429T015300
DTEND:20150429T015600
SUMMARY:Netauktion objekt 2227-051 Auktionspåminnelse
DESCRIPTION:Länk till objektet du var intresserad av: https://staging.netauktion.se/auktion/produkt/bord-pa-hjul-rf
END:VEVENT
END:VCALENDAR
