BEGIN:VCALENDAR
VERSION:2.0
PRODID:-//NetAuktion//NONSGML NetAuktion//SV
METHOD:PUBLISH
BEGIN:VEVENT
UID:20260421T102932-1316592814-netauktion.se
DTSTAMP:20260421T102932
DTSTART:20150429T020300
DTEND:20150429T020600
SUMMARY:Netauktion objekt 2227-062 Auktionspåminnelse
DESCRIPTION:Länk till objektet du var intresserad av: https://staging.netauktion.se/auktion/produkt/vagghyllor-9
END:VEVENT
END:VCALENDAR
