BEGIN:VCALENDAR
VERSION:2.0
PRODID:-//NetAuktion//NONSGML NetAuktion//SV
METHOD:PUBLISH
BEGIN:VEVENT
UID:20260421T104533-762998944-netauktion.se
DTSTAMP:20260421T104533
DTSTART:20150527T030600
DTEND:20150527T030900
SUMMARY:Netauktion objekt 1994-017 Auktionspåminnelse
DESCRIPTION:Länk till objektet du var intresserad av: https://staging.netauktion.se/auktion/produkt/2st-vaggarmaturer-gjutjarn
END:VEVENT
END:VCALENDAR
