BEGIN:VCALENDAR
VERSION:2.0
PRODID:-//NetAuktion//NONSGML NetAuktion//SV
METHOD:PUBLISH
BEGIN:VEVENT
UID:20260421T104310-1364488305-netauktion.se
DTSTAMP:20260421T104310
DTSTART:20150527T030300
DTEND:20150527T030600
SUMMARY:Netauktion objekt 2260-004 Auktionspåminnelse
DESCRIPTION:Länk till objektet du var intresserad av: https://staging.netauktion.se/auktion/produkt/bord-med-stolar-furu
END:VEVENT
END:VCALENDAR
