BEGIN:VCALENDAR
VERSION:2.0
PRODID:-//NetAuktion//NONSGML NetAuktion//SV
METHOD:PUBLISH
BEGIN:VEVENT
UID:20260421T104353-606918685-netauktion.se
DTSTAMP:20260421T104353
DTSTART:20150527T030000
DTEND:20150527T030300
SUMMARY:Netauktion objekt 2260-005 Auktionspåminnelse
DESCRIPTION:Länk till objektet du var intresserad av: https://staging.netauktion.se/auktion/produkt/taltsang-tvattkorg
END:VEVENT
END:VCALENDAR
