BEGIN:VCALENDAR
VERSION:2.0
PRODID:-//NetAuktion//NONSGML NetAuktion//SV
METHOD:PUBLISH
BEGIN:VEVENT
UID:20260421T104353-2096164307-netauktion.se
DTSTAMP:20260421T104353
DTSTART:20150527T030500
DTEND:20150527T030800
SUMMARY:Netauktion objekt 2260-008 Auktionspåminnelse
DESCRIPTION:Länk till objektet du var intresserad av: https://staging.netauktion.se/auktion/produkt/gungstol
END:VEVENT
END:VCALENDAR
