BEGIN:VCALENDAR
VERSION:2.0
PRODID:-//NetAuktion//NONSGML NetAuktion//SV
METHOD:PUBLISH
BEGIN:VEVENT
UID:20260421T104359-2075692446-netauktion.se
DTSTAMP:20260421T104359
DTSTART:20150529T011500
DTEND:20150529T011800
SUMMARY:Netauktion objekt 2194-006 Auktionspåminnelse
DESCRIPTION:Länk till objektet du var intresserad av: https://staging.netauktion.se/auktion/produkt/stihl-rojsag
END:VEVENT
END:VCALENDAR
