BEGIN:VCALENDAR
VERSION:2.0
PRODID:-//NetAuktion//NONSGML NetAuktion//SV
METHOD:PUBLISH
BEGIN:VEVENT
UID:20260421T102838-238874651-netauktion.se
DTSTAMP:20260421T102838
DTSTART:20150529T012100
DTEND:20150529T012400
SUMMARY:Netauktion objekt 2194-008 Auktionspåminnelse
DESCRIPTION:Länk till objektet du var intresserad av: https://staging.netauktion.se/auktion/produkt/motorsag-meec-hjalm
END:VEVENT
END:VCALENDAR
