BEGIN:VCALENDAR
VERSION:2.0
PRODID:-//NetAuktion//NONSGML NetAuktion//SV
METHOD:PUBLISH
BEGIN:VEVENT
UID:20260421T103033-1269906206-netauktion.se
DTSTAMP:20260421T103033
DTSTART:20160530T022300
DTEND:20160530T022600
SUMMARY:Netauktion objekt 2298-001 Auktionspåminnelse
DESCRIPTION:Länk till objektet du var intresserad av: https://staging.netauktion.se/auktion/produkt/aldre-mynt-kassor-sparvagnsbiljetter-diverse
END:VEVENT
END:VCALENDAR
