BEGIN:VCALENDAR
VERSION:2.0
PRODID:-//NetAuktion//NONSGML NetAuktion//SV
METHOD:PUBLISH
BEGIN:VEVENT
UID:20260421T104352-54871006-netauktion.se
DTSTAMP:20260421T104352
DTSTART:20150630T032000
DTEND:20150630T032300
SUMMARY:Netauktion objekt 2299-174 Auktionspåminnelse
DESCRIPTION:Länk till objektet du var intresserad av: https://staging.netauktion.se/auktion/produkt/lite-blandat
END:VEVENT
END:VCALENDAR
