BEGIN:VCALENDAR
VERSION:2.0
PRODID:-//NetAuktion//NONSGML NetAuktion//SV
METHOD:PUBLISH
BEGIN:VEVENT
UID:20260421T104455-1003828379-netauktion.se
DTSTAMP:20260421T104455
DTSTART:20150630T032200
DTEND:20150630T032500
SUMMARY:Netauktion objekt 2299-176 Auktionspåminnelse
DESCRIPTION:Länk till objektet du var intresserad av: https://staging.netauktion.se/auktion/produkt/gardinlangder-2
END:VEVENT
END:VCALENDAR
