BEGIN:VCALENDAR
VERSION:2.0
PRODID:-//NetAuktion//NONSGML NetAuktion//SV
METHOD:PUBLISH
BEGIN:VEVENT
UID:20260421T104533-1372066667-netauktion.se
DTSTAMP:20260421T104533
DTSTART:20150630T032300
DTEND:20150630T032600
SUMMARY:Netauktion objekt 2299-177 Auktionspåminnelse
DESCRIPTION:Länk till objektet du var intresserad av: https://staging.netauktion.se/auktion/produkt/matta-6st
END:VEVENT
END:VCALENDAR
