BEGIN:VCALENDAR
VERSION:2.0
PRODID:-//NetAuktion//NONSGML NetAuktion//SV
METHOD:PUBLISH
BEGIN:VEVENT
UID:20260421T104307-1161062279-netauktion.se
DTSTAMP:20260421T104307
DTSTART:20150630T033000
DTEND:20150630T033300
SUMMARY:Netauktion objekt 2299-184 Auktionspåminnelse
DESCRIPTION:Länk till objektet du var intresserad av: https://staging.netauktion.se/auktion/produkt/dorrmatta-105st
END:VEVENT
END:VCALENDAR
