BEGIN:VCALENDAR
VERSION:2.0
PRODID:-//NetAuktion//NONSGML NetAuktion//SV
METHOD:PUBLISH
BEGIN:VEVENT
UID:20260421T104352-1589699657-netauktion.se
DTSTAMP:20260421T104352
DTSTART:20150630T033900
DTEND:20150630T034200
SUMMARY:Netauktion objekt 2299-194 Auktionspåminnelse
DESCRIPTION:Länk till objektet du var intresserad av: https://staging.netauktion.se/auktion/produkt/disney-planes
END:VEVENT
END:VCALENDAR
