BEGIN:VCALENDAR
VERSION:2.0
PRODID:-//NetAuktion//NONSGML NetAuktion//SV
METHOD:PUBLISH
BEGIN:VEVENT
UID:20260425T134423-1684824277-netauktion.se
DTSTAMP:20260425T134423
DTSTART:20150630T010000
DTEND:20150630T010300
SUMMARY:Netauktion objekt 2299-001 Auktionspåminnelse
DESCRIPTION:Länk till objektet du var intresserad av: https://staging.netauktion.se/auktion/produkt/karleksmeddelanden-i-sten
END:VEVENT
END:VCALENDAR
