BEGIN:VCALENDAR
VERSION:2.0
PRODID:-//NetAuktion//NONSGML NetAuktion//SV
METHOD:PUBLISH
BEGIN:VEVENT
UID:20260425T122336-1216454948-netauktion.se
DTSTAMP:20260425T122336
DTSTART:20150630T010400
DTEND:20150630T010700
SUMMARY:Netauktion objekt 2299-005 Auktionspåminnelse
DESCRIPTION:Länk till objektet du var intresserad av: https://staging.netauktion.se/auktion/produkt/sattlokar-som-blir-vackra-blommor
END:VEVENT
END:VCALENDAR
