BEGIN:VCALENDAR
VERSION:2.0
PRODID:-//NetAuktion//NONSGML NetAuktion//SV
METHOD:PUBLISH
BEGIN:VEVENT
UID:20260421T104451-528561183-netauktion.se
DTSTAMP:20260421T104451
DTSTART:20150630T012900
DTEND:20150630T013200
SUMMARY:Netauktion objekt 2299-030 Auktionspåminnelse
DESCRIPTION:Länk till objektet du var intresserad av: https://staging.netauktion.se/auktion/produkt/arbetsklader-mm
END:VEVENT
END:VCALENDAR
