BEGIN:VCALENDAR
VERSION:2.0
PRODID:-//NetAuktion//NONSGML NetAuktion//SV
METHOD:PUBLISH
BEGIN:VEVENT
UID:20260421T104431-1799565444-netauktion.se
DTSTAMP:20260421T104431
DTSTART:20150630T015700
DTEND:20150630T020000
SUMMARY:Netauktion objekt 2299-058 Auktionspåminnelse
DESCRIPTION:Länk till objektet du var intresserad av: https://staging.netauktion.se/auktion/produkt/djurfoder-leksaker
END:VEVENT
END:VCALENDAR
