BEGIN:VCALENDAR
VERSION:2.0
PRODID:-//NetAuktion//NONSGML NetAuktion//SV
METHOD:PUBLISH
BEGIN:VEVENT
UID:20260421T102744-533608979-netauktion.se
DTSTAMP:20260421T102744
DTSTART:20150630T022800
DTEND:20150630T023100
SUMMARY:Netauktion objekt 2299-086 Auktionspåminnelse
DESCRIPTION:Länk till objektet du var intresserad av: https://staging.netauktion.se/auktion/produkt/elektronik-bla-blue-ray-spelare
END:VEVENT
END:VCALENDAR
