BEGIN:VCALENDAR
VERSION:2.0
PRODID:-//NetAuktion//NONSGML NetAuktion//SV
METHOD:PUBLISH
BEGIN:VEVENT
UID:20260425T123448-234407296-netauktion.se
DTSTAMP:20260425T123448
DTSTART:20150629T024900
DTEND:20150629T025200
SUMMARY:Netauktion objekt 2275-019 Auktionspåminnelse
DESCRIPTION:Länk till objektet du var intresserad av: https://staging.netauktion.se/auktion/produkt/exponeringsskap-reklamstall
END:VEVENT
END:VCALENDAR
