BEGIN:VCALENDAR
VERSION:2.0
PRODID:-//NetAuktion//NONSGML NetAuktion//SV
METHOD:PUBLISH
BEGIN:VEVENT
UID:20260425T122333-1738735582-netauktion.se
DTSTAMP:20260425T122333
DTSTART:20150629T025600
DTEND:20150629T025900
SUMMARY:Netauktion objekt 2275-027 Auktionspåminnelse
DESCRIPTION:Länk till objektet du var intresserad av: https://staging.netauktion.se/auktion/produkt/lagerhyllor-8st-sektioner
END:VEVENT
END:VCALENDAR
