BEGIN:VCALENDAR
VERSION:2.0
PRODID:-//NetAuktion//NONSGML NetAuktion//SV
METHOD:PUBLISH
BEGIN:VEVENT
UID:20260425T123449-249472999-netauktion.se
DTSTAMP:20260425T123449
DTSTART:20150629T025700
DTEND:20150629T030000
SUMMARY:Netauktion objekt 2275-029 Auktionspåminnelse
DESCRIPTION:Länk till objektet du var intresserad av: https://staging.netauktion.se/auktion/produkt/trahylla-med-bultsortiment-sma-storlekar
END:VEVENT
END:VCALENDAR
