BEGIN:VCALENDAR
VERSION:2.0
PRODID:-//NetAuktion//NONSGML NetAuktion//SV
METHOD:PUBLISH
BEGIN:VEVENT
UID:20260425T122550-708566215-netauktion.se
DTSTAMP:20260425T122550
DTSTART:20150629T025900
DTEND:20150629T030200
SUMMARY:Netauktion objekt 2275-031 Auktionspåminnelse
DESCRIPTION:Länk till objektet du var intresserad av: https://staging.netauktion.se/auktion/produkt/hitachi-skruvdragare-limtvingar
END:VEVENT
END:VCALENDAR
