BEGIN:VCALENDAR
VERSION:2.0
PRODID:-//NetAuktion//NONSGML NetAuktion//SV
METHOD:PUBLISH
BEGIN:VEVENT
UID:20260425T135428-1826247598-netauktion.se
DTSTAMP:20260425T135428
DTSTART:20150629T030200
DTEND:20150629T030500
SUMMARY:Netauktion objekt 2275-032 Auktionspåminnelse
DESCRIPTION:Länk till objektet du var intresserad av: https://staging.netauktion.se/auktion/produkt/verktygstavla-med-fina-verktyg
END:VEVENT
END:VCALENDAR
