BEGIN:VCALENDAR
VERSION:2.0
PRODID:-//NetAuktion//NONSGML NetAuktion//SV
METHOD:PUBLISH
BEGIN:VEVENT
UID:20260425T122450-1098774224-netauktion.se
DTSTAMP:20260425T122450
DTSTART:20150629T030500
DTEND:20150629T030800
SUMMARY:Netauktion objekt 2275-037 Auktionspåminnelse
DESCRIPTION:Länk till objektet du var intresserad av: https://staging.netauktion.se/auktion/produkt/trappstege-verktygsvaska-skap-3
END:VEVENT
END:VCALENDAR
