BEGIN:VCALENDAR
VERSION:2.0
PRODID:-//NetAuktion//NONSGML NetAuktion//SV
METHOD:PUBLISH
BEGIN:VEVENT
UID:20260425T123425-2026500968-netauktion.se
DTSTAMP:20260425T123425
DTSTART:20150629T031000
DTEND:20150629T031300
SUMMARY:Netauktion objekt 2275-042 Auktionspåminnelse
DESCRIPTION:Länk till objektet du var intresserad av: https://staging.netauktion.se/auktion/produkt/bankspis-4
END:VEVENT
END:VCALENDAR
