BEGIN:VCALENDAR
VERSION:2.0
PRODID:-//NetAuktion//NONSGML NetAuktion//SV
METHOD:PUBLISH
BEGIN:VEVENT
UID:20260425T122336-520848287-netauktion.se
DTSTAMP:20260425T122336
DTSTART:20150629T031600
DTEND:20150629T031900
SUMMARY:Netauktion objekt 2275-048 Auktionspåminnelse
DESCRIPTION:Länk till objektet du var intresserad av: https://staging.netauktion.se/auktion/produkt/uv-lampa-brilliant-smile
END:VEVENT
END:VCALENDAR
