BEGIN:VCALENDAR
VERSION:2.0
PRODID:-//NetAuktion//NONSGML NetAuktion//SV
METHOD:PUBLISH
BEGIN:VEVENT
UID:20260425T122555-955637524-netauktion.se
DTSTAMP:20260425T122555
DTSTART:20150629T032800
DTEND:20150629T033100
SUMMARY:Netauktion objekt 2275-060 Auktionspåminnelse
DESCRIPTION:Länk till objektet du var intresserad av: https://staging.netauktion.se/auktion/produkt/verkstadsbord-med-skruvstad
END:VEVENT
END:VCALENDAR
