BEGIN:VCALENDAR
VERSION:2.0
PRODID:-//NetAuktion//NONSGML NetAuktion//SV
METHOD:PUBLISH
BEGIN:VEVENT
UID:20260425T122555-256689434-netauktion.se
DTSTAMP:20260425T122555
DTSTART:20150629T020900
DTEND:20150629T021200
SUMMARY:Netauktion objekt 2293-039 Auktionspåminnelse
DESCRIPTION:Länk till objektet du var intresserad av: https://staging.netauktion.se/auktion/produkt/ekstolar-med-konstskinn-8st
END:VEVENT
END:VCALENDAR
