BEGIN:VCALENDAR
VERSION:2.0
PRODID:-//NetAuktion//NONSGML NetAuktion//SV
METHOD:PUBLISH
BEGIN:VEVENT
UID:20260421T103031-699633865-netauktion.se
DTSTAMP:20260421T103031
DTSTART:20150831T013500
DTEND:20150831T013800
SUMMARY:Netauktion objekt 1953-069 Auktionspåminnelse
DESCRIPTION:Länk till objektet du var intresserad av: https://staging.netauktion.se/auktion/produkt/storsegel-henrik-ottosson-segelmakeri
END:VEVENT
END:VCALENDAR
