BEGIN:VCALENDAR
VERSION:2.0
PRODID:-//NetAuktion//NONSGML NetAuktion//SV
METHOD:PUBLISH
BEGIN:VEVENT
UID:20260421T104441-1662568939-netauktion.se
DTSTAMP:20260421T104441
DTSTART:20150831T013600
DTEND:20150831T013900
SUMMARY:Netauktion objekt 1953-070 Auktionspåminnelse
DESCRIPTION:Länk till objektet du var intresserad av: https://staging.netauktion.se/auktion/produkt/aldre-skap-med-sortimentlador
END:VEVENT
END:VCALENDAR
