BEGIN:VCALENDAR
VERSION:2.0
PRODID:-//NetAuktion//NONSGML NetAuktion//SV
METHOD:PUBLISH
BEGIN:VEVENT
UID:20260421T103031-1633922649-netauktion.se
DTSTAMP:20260421T103031
DTSTART:20150731T032700
DTEND:20150731T033000
SUMMARY:Netauktion objekt 2330-053 Auktionspåminnelse
DESCRIPTION:Länk till objektet du var intresserad av: https://staging.netauktion.se/auktion/produkt/svets-migatronic-rally-260
END:VEVENT
END:VCALENDAR
