BEGIN:VCALENDAR
VERSION:2.0
PRODID:-//NetAuktion//NONSGML NetAuktion//SV
METHOD:PUBLISH
BEGIN:VEVENT
UID:20260421T104311-1903472759-netauktion.se
DTSTAMP:20260421T104311
DTSTART:20150731T032900
DTEND:20150731T033200
SUMMARY:Netauktion objekt 2330-056 Auktionspåminnelse
DESCRIPTION:Länk till objektet du var intresserad av: https://staging.netauktion.se/auktion/produkt/spannband-5
END:VEVENT
END:VCALENDAR
