BEGIN:VCALENDAR
VERSION:2.0
PRODID:-//NetAuktion//NONSGML NetAuktion//SV
METHOD:PUBLISH
BEGIN:VEVENT
UID:20260421T104442-839486567-netauktion.se
DTSTAMP:20260421T104442
DTSTART:20150731T033200
DTEND:20150731T033500
SUMMARY:Netauktion objekt 2330-058 Auktionspåminnelse
DESCRIPTION:Länk till objektet du var intresserad av: https://staging.netauktion.se/auktion/produkt/ljusinstallningsapparat
END:VEVENT
END:VCALENDAR
