BEGIN:VCALENDAR
VERSION:2.0
PRODID:-//NetAuktion//NONSGML NetAuktion//SV
METHOD:PUBLISH
BEGIN:VEVENT
UID:20260421T102832-1293127136-netauktion.se
DTSTAMP:20260421T102832
DTSTART:20150731T033600
DTEND:20150731T033900
SUMMARY:Netauktion objekt 2330-063 Auktionspåminnelse
DESCRIPTION:Länk till objektet du var intresserad av: https://staging.netauktion.se/auktion/produkt/porta-power-inkl-tillbehor
END:VEVENT
END:VCALENDAR
