BEGIN:VCALENDAR
VERSION:2.0
PRODID:-//NetAuktion//NONSGML NetAuktion//SV
METHOD:PUBLISH
BEGIN:VEVENT
UID:20260421T104450-1994773469-netauktion.se
DTSTAMP:20260421T104450
DTSTART:20150731T033800
DTEND:20150731T034100
SUMMARY:Netauktion objekt 2330-065 Auktionspåminnelse
DESCRIPTION:Länk till objektet du var intresserad av: https://staging.netauktion.se/auktion/produkt/lagerhylla-med-bromsdelar
END:VEVENT
END:VCALENDAR
