BEGIN:VCALENDAR
VERSION:2.0
PRODID:-//NetAuktion//NONSGML NetAuktion//SV
METHOD:PUBLISH
BEGIN:VEVENT
UID:20260421T102933-628861923-netauktion.se
DTSTAMP:20260421T102933
DTSTART:20150731T034700
DTEND:20150731T035000
SUMMARY:Netauktion objekt 2330-070 Auktionspåminnelse
DESCRIPTION:Länk till objektet du var intresserad av: https://staging.netauktion.se/auktion/produkt/hoj-sankbar-vagn-med-verktyg
END:VEVENT
END:VCALENDAR
