BEGIN:VCALENDAR
VERSION:2.0
PRODID:-//NetAuktion//NONSGML NetAuktion//SV
METHOD:PUBLISH
BEGIN:VEVENT
UID:20260421T104452-654003366-netauktion.se
DTSTAMP:20260421T104452
DTSTART:20150731T035400
DTEND:20150731T035700
SUMMARY:Netauktion objekt 2330-074 Auktionspåminnelse
DESCRIPTION:Länk till objektet du var intresserad av: https://staging.netauktion.se/auktion/produkt/reservdelslager-generatorer-lampor-mm
END:VEVENT
END:VCALENDAR
