BEGIN:VCALENDAR
VERSION:2.0
PRODID:-//NetAuktion//NONSGML NetAuktion//SV
METHOD:PUBLISH
BEGIN:VEVENT
UID:20260421T104459-583715756-netauktion.se
DTSTAMP:20260421T104459
DTSTART:20150731T035500
DTEND:20150731T035800
SUMMARY:Netauktion objekt 2330-083 Auktionspåminnelse
DESCRIPTION:Länk till objektet du var intresserad av: https://staging.netauktion.se/auktion/produkt/rattstanger-rutor
END:VEVENT
END:VCALENDAR
