BEGIN:VCALENDAR
VERSION:2.0
PRODID:-//NetAuktion//NONSGML NetAuktion//SV
METHOD:PUBLISH
BEGIN:VEVENT
UID:20260421T102837-635471407-netauktion.se
DTSTAMP:20260421T102837
DTSTART:20150731T035800
DTEND:20150731T040100
SUMMARY:Netauktion objekt 2330-093 Auktionspåminnelse
DESCRIPTION:Länk till objektet du var intresserad av: https://staging.netauktion.se/auktion/produkt/coffe-queen-bryggare
END:VEVENT
END:VCALENDAR
