BEGIN:VCALENDAR
VERSION:2.0
PRODID:-//NetAuktion//NONSGML NetAuktion//SV
METHOD:PUBLISH
BEGIN:VEVENT
UID:20260421T104318-1110885629-netauktion.se
DTSTAMP:20260421T104318
DTSTART:20150731T040000
DTEND:20150731T040300
SUMMARY:Netauktion objekt 2330-095 Auktionspåminnelse
DESCRIPTION:Länk till objektet du var intresserad av: https://staging.netauktion.se/auktion/produkt/fordonslitteratur
END:VEVENT
END:VCALENDAR
