BEGIN:VCALENDAR
VERSION:2.0
PRODID:-//NetAuktion//NONSGML NetAuktion//SV
METHOD:PUBLISH
BEGIN:VEVENT
UID:20260421T102837-1885017979-netauktion.se
DTSTAMP:20260421T102837
DTSTART:20150731T040100
DTEND:20150731T040400
SUMMARY:Netauktion objekt 2330-096 Auktionspåminnelse
DESCRIPTION:Länk till objektet du var intresserad av: https://staging.netauktion.se/auktion/produkt/aldre-kassaskap
END:VEVENT
END:VCALENDAR
