BEGIN:VCALENDAR
VERSION:2.0
PRODID:-//NetAuktion//NONSGML NetAuktion//SV
METHOD:PUBLISH
BEGIN:VEVENT
UID:20260421T104357-1069123189-netauktion.se
DTSTAMP:20260421T104357
DTSTART:20150731T040200
DTEND:20150731T040500
SUMMARY:Netauktion objekt 2330-097 Auktionspåminnelse
DESCRIPTION:Länk till objektet du var intresserad av: https://staging.netauktion.se/auktion/produkt/slangvinda-for-fett
END:VEVENT
END:VCALENDAR
