BEGIN:VCALENDAR
VERSION:2.0
PRODID:-//NetAuktion//NONSGML NetAuktion//SV
METHOD:PUBLISH
BEGIN:VEVENT
UID:20260421T104452-711712483-netauktion.se
DTSTAMP:20260421T104452
DTSTART:20090731T015400
DTEND:20090731T015700
SUMMARY:Netauktion objekt 0312-148 Auktionspåminnelse
DESCRIPTION:Länk till objektet du var intresserad av: https://staging.netauktion.se/auktion/produkt/nya-smycken-zr-varde-5100-kr-3
END:VEVENT
END:VCALENDAR
